BEGIN:VCALENDAR
VERSION:2.0
PRODID:-//hacksw/handcal//NONSGML v1.0//EN
BEGIN:VEVENT
SUMMARY:🥋 OPEN DE COLOMIERS 2026 – INSCRIPTIONS CLUB OUVERTES ! 🥋
UID:04d181f3-c8d0-42f9-9c4e-88ead2596664
DTSTART:20260426T070000Z
DTEND:20260426T160000Z
LOCATION:Localisation Gymnase Rene Piquemal -13 rue Alfred de Vigny 31770 Colomiers
CATEGORIES:Sportif
STATUS:
DESCRIPTION:<p>Le club participera a l’<strong>Open de
 Colomiers</strong> qui se deroulera :</p>
 
 <p>📅 <strong>Dimanche
 26 avril 2026</strong><br>
 📍 Gymnase Rene Piquemal –
 Colomiers</p>
 
 <p>Cette competition est ouverte aux categories
 :<br>
 👉 <strong>Benjamins, Minimes, Cadets, Juniors et
 Seniors</strong></p>
 
 <hr>
 <h3>⏰ <strong>Programme
 (indicatif)</strong></h3>
 
 <ul>
 	<li>Matin : Juniors &
 Seniors</li>
 	<li>A partir de 12h30 : Benjamins, Minimes,
 Cadets</li>
 </ul>
 
 <hr>
 <h3>💥 <strong>Informations
 importantes</strong></h3>
 
 <ul>
 	<li>⚠️ Les categories A (cadets
 a seniors) combattront avec <strong>casque electronique (touche tete
 autorisee)</strong></li>
 	<li>⚠️ Les categories B : <strong>sans
 touche tete</strong></li>
 	<li>Possibilite de combattre dans
 <strong>2 categories</strong> (double
 inscription)</li>
 </ul>
 
 <hr>
 <h3>💶
 <strong>Tarif</strong></h3>
 
 <p>➡️ 20€ par
 participant</p>
 
 <hr>
 <h3>⏳ <strong>Date limite
 club</strong></h3>
 
 <p>⚠️ <strong>Ne tardez pas
 !</strong><br>
 Afin d’anticiper l’organisation, merci de vous
 manifester <span style="font-size:16px;"><span
 style="color:#c0392b;"><u><b>avant le
 17/04/2026</b></u></span></span></p>
 
 <hr>
 <p>🔥 Une belle
 competition en perspective, ideale pour prendre de l’experience et
 representer le club !</p>
 
 <p>💪 On compte sur vous nombreux !</p>
URL;VALUE=URI:https://www.taekwondo3132.fr/evenements/2026/04/26/open-de-colomiers-2026-inscriptions-club-ouvertes-2438105
END:VEVENT
END:VCALENDAR
