BEGIN:VCALENDAR
VERSION:2.0
PRODID:-//hacksw/handcal//NONSGML v1.0//EN
BEGIN:VEVENT
SUMMARY:🥋 OPEN INTERNATIONAL D’ALBI 2026 – INSCRIPTIONS CLUB OUVERTES ! 🥋
UID:f6f7eb7f-ea11-4f73-84f8-619e8fe33899
DTSTART:20260529T220000Z
DTEND:20260531T220000Z
LOCATION:Localisation   
CATEGORIES:Sportif
STATUS:
DESCRIPTION:<p>Le club participera au <strong>22eme Open
 International d’Albi</strong>, une belle competition ouverte a de
 nombreuses categories 👇</p>
 
 <p>📅 <strong>Samedi 30 mai &
 Dimanche 31 mai 2026</strong><br>
 📍 COSEC –
 Albi</p>
 
 <hr>
 <h3>👊 <strong>Categories
 concernees</strong></h3>
 
 <p>👉 <strong>Benjamins, Minimes, Cadets,
 Juniors, Seniors et Veterans</strong></p>
 
 <ul>
 	<li><strong>Samedi
 30 mai :</strong> Benjamins, Minimes,
 Cadets</li>
 	<li><strong>Dimanche 31 mai :</strong> Juniors, Seniors,
 Veterans</li>
 </ul>
 
 <hr>
 <h3>💥 <strong>Informations
 importantes</strong></h3>
 
 <ul>
 	<li>⚠️ Competition avec
 <strong>plastrons et casques classiques (non
 electroniques)</strong></li>
 	<li>👉 Prevoir <strong>son propre
 materiel</strong> (casque, pitaines,...)</li>
 </ul>
 
 <hr>
 <h3>💶
 <strong>Tarif</strong></h3>
 
 <p>➡️ 20€ par
 participant</p>
 
 <hr>
 <h3>📩 <strong>INSCRIPTION
 CLUB</strong></h3>
 
 <p>Merci de nous transmettre :</p>
 
 <ul>
 	<li>Nom
 / Prenom</li>
 	<li>Date de
 naissance</li>
 	<li>Poids</li>
 	<li>Categorie</li>
 </ul>
 
 <hr>
 <h3>⏳
 <strong>Date limite club</strong></h3>
 
 <p>⚠️ Merci de vous
 positionner <span style="font-size:16px;"><span
 style="color:#c0392b;"><u><strong>avant le 15
 MAI</strong></u></span></span></p>
 
 <hr>
 <p>🔥 Une competition
 conviviale et ouverte a tous les niveaux, ideale pour prendre de
 l’experience !</p>
 
 <p>💪 On compte sur vous pour representer le
 club !</p>
URL;VALUE=URI:https://www.taekwondo3132.fr/evenements/2026/05/30/open-international-dalbi-2026-inscriptions-club-ouvertes-2438107
END:VEVENT
END:VCALENDAR
